BEGIN:VCALENDAR
VERSION:2.0
PRODID:-//Killing Tree Winery - ECPv6.15.11//NONSGML v1.0//EN
CALSCALE:GREGORIAN
METHOD:PUBLISH
X-ORIGINAL-URL:https://killingtreewinery.com
X-WR-CALDESC:Events for Killing Tree Winery
REFRESH-INTERVAL;VALUE=DURATION:PT1H
X-Robots-Tag:noindex
X-PUBLISHED-TTL:PT1H
BEGIN:VTIMEZONE
TZID:UTC
BEGIN:STANDARD
TZOFFSETFROM:+0000
TZOFFSETTO:+0000
TZNAME:UTC
DTSTART:20240101T000000
END:STANDARD
END:VTIMEZONE
BEGIN:VEVENT
DTSTART;TZID=UTC:20250405T130000
DTEND;TZID=UTC:20250405T150000
DTSTAMP:20260420T160202
CREATED:20250330T182640Z
LAST-MODIFIED:20250330T182640Z
UID:10793-1743858000-1743865200@killingtreewinery.com
SUMMARY:Spring Porch Sitter Painting
DESCRIPTION:Join Niki\, Three Sister’s Studio\, as she guides you through creating a fantastic porch sign.  $45 includes all supplies\, instruction and a drink.  Be sure to grab some delicious food. \n 
URL:https://killingtreewinery.com/event/spring-porch-sitter-painting/
LOCATION:OH
END:VEVENT
END:VCALENDAR