BEGIN:VCALENDAR
VERSION:2.0
PRODID:-//Killing Tree Winery - ECPv6.15.11//NONSGML v1.0//EN
CALSCALE:GREGORIAN
METHOD:PUBLISH
X-WR-CALNAME:Killing Tree Winery
X-ORIGINAL-URL:https://killingtreewinery.com
X-WR-CALDESC:Events for Killing Tree Winery
REFRESH-INTERVAL;VALUE=DURATION:PT1H
X-Robots-Tag:noindex
X-PUBLISHED-TTL:PT1H
BEGIN:VTIMEZONE
TZID:UTC
BEGIN:STANDARD
TZOFFSETFROM:+0000
TZOFFSETTO:+0000
TZNAME:UTC
DTSTART:20240101T000000
END:STANDARD
END:VTIMEZONE
BEGIN:VEVENT
DTSTART;TZID=UTC:20250222T130000
DTEND;TZID=UTC:20250222T150000
DTSTAMP:20260420T191119
CREATED:20250204T152822Z
LAST-MODIFIED:20250204T152822Z
UID:10692-1740229200-1740236400@killingtreewinery.com
SUMMARY:Watering Can and Flowers Painting
DESCRIPTION:Join Kelly\, A Girl and A Brush\, and Killing Tree Winery for a 2 hour painting class on a Saturday afternoon. Kelly will walk participants through painting this 3 foot wood sign with a watering can and flowers. It will look fantastic on your porch!Cost is $40 per person. Each person will receive all supplies and a glass of wine!Message Kelly for your seat! \n 
URL:https://killingtreewinery.com/event/watering-can-and-flowers-painting/
LOCATION:Killing Tree Winery\, 16688 CO RD 4\, Dresden\, OH\, 43821\, United States
END:VEVENT
END:VCALENDAR