BEGIN:VCALENDAR
VERSION:2.0
PRODID:-//Killing Tree Winery - ECPv6.15.11//NONSGML v1.0//EN
CALSCALE:GREGORIAN
METHOD:PUBLISH
X-WR-CALNAME:Killing Tree Winery
X-ORIGINAL-URL:https://killingtreewinery.com
X-WR-CALDESC:Events for Killing Tree Winery
REFRESH-INTERVAL;VALUE=DURATION:PT1H
X-Robots-Tag:noindex
X-PUBLISHED-TTL:PT1H
BEGIN:VTIMEZONE
TZID:UTC
BEGIN:STANDARD
TZOFFSETFROM:+0000
TZOFFSETTO:+0000
TZNAME:UTC
DTSTART:20240101T000000
END:STANDARD
END:VTIMEZONE
BEGIN:VEVENT
DTSTART;TZID=UTC:20250213T173000
DTEND;TZID=UTC:20250213T193000
DTSTAMP:20260420T191338
CREATED:20250129T164351Z
LAST-MODIFIED:20250129T164351Z
UID:10665-1739467800-1739475000@killingtreewinery.com
SUMMARY:Chicken Painting Class
DESCRIPTION:join Nikki\, Three Sister’s Studio for a this cute painting class.  Grab some friends for wine and a fun!  Message Nikki for your spot!
URL:https://killingtreewinery.com/event/chicken-painting-class/
LOCATION:OH
ORGANIZER;CN="Killing Tree Winery":MAILTO:killingtreewinery@gmail.com
END:VEVENT
END:VCALENDAR