BEGIN:VCALENDAR
VERSION:2.0
PRODID:-//Killing Tree Winery - ECPv6.15.11//NONSGML v1.0//EN
CALSCALE:GREGORIAN
METHOD:PUBLISH
X-WR-CALNAME:Killing Tree Winery
X-ORIGINAL-URL:https://killingtreewinery.com
X-WR-CALDESC:Events for Killing Tree Winery
REFRESH-INTERVAL;VALUE=DURATION:PT1H
X-Robots-Tag:noindex
X-PUBLISHED-TTL:PT1H
BEGIN:VTIMEZONE
TZID:UTC
BEGIN:STANDARD
TZOFFSETFROM:+0000
TZOFFSETTO:+0000
TZNAME:UTC
DTSTART:20240101T000000
END:STANDARD
END:VTIMEZONE
BEGIN:VEVENT
DTSTART;TZID=UTC:20250116T173000
DTEND;TZID=UTC:20250116T203000
DTSTAMP:20260420T204749
CREATED:20241216T191502Z
LAST-MODIFIED:20250110T144113Z
UID:10545-1737048600-1737059400@killingtreewinery.com
SUMMARY:Hat Burning Class
DESCRIPTION:Join Brooke from Red Ridge Designs as she guides you in designing your own Custom Hat.  Cost is $70 per person and includes all supplies\, a hat and a wine flight.  \n 
URL:https://killingtreewinery.com/event/hat-burning-class-2/
LOCATION:Killing Tree Winery\, 16688 CO RD 4\, Dresden\, OH\, 43821\, United States
END:VEVENT
END:VCALENDAR