BEGIN:VCALENDAR
VERSION:2.0
PRODID:-//Killing Tree Winery - ECPv6.15.11//NONSGML v1.0//EN
CALSCALE:GREGORIAN
METHOD:PUBLISH
X-WR-CALNAME:Killing Tree Winery
X-ORIGINAL-URL:https://killingtreewinery.com
X-WR-CALDESC:Events for Killing Tree Winery
REFRESH-INTERVAL;VALUE=DURATION:PT1H
X-Robots-Tag:noindex
X-PUBLISHED-TTL:PT1H
BEGIN:VTIMEZONE
TZID:UTC
BEGIN:STANDARD
TZOFFSETFROM:+0000
TZOFFSETTO:+0000
TZNAME:UTC
DTSTART:20240101T000000
END:STANDARD
END:VTIMEZONE
BEGIN:VEVENT
DTSTART;TZID=UTC:20250109T183000
DTEND;TZID=UTC:20250109T200000
DTSTAMP:20260420T204938
CREATED:20241216T222619Z
LAST-MODIFIED:20241216T222619Z
UID:10554-1736447400-1736452800@killingtreewinery.com
SUMMARY:Winter Wreath Class
DESCRIPTION:Join Amber\, Loving Creations Florals\, as she guides you through the creations of this lovely winter wreath.  Class is $50 per person and includes all supplies and a drink at the bar. Register on Facebook: Loving Creations Florals and purchase Ticket. \n  \n 
URL:https://killingtreewinery.com/event/winter-wreath-class/
LOCATION:Killing Tree Winery\, 16688 CO RD 4\, Dresden\, OH\, 43821\, United States
END:VEVENT
END:VCALENDAR