BEGIN:VCALENDAR
VERSION:2.0
PRODID:-//Killing Tree Winery - ECPv6.15.11//NONSGML v1.0//EN
CALSCALE:GREGORIAN
METHOD:PUBLISH
X-WR-CALNAME:Killing Tree Winery
X-ORIGINAL-URL:https://killingtreewinery.com
X-WR-CALDESC:Events for Killing Tree Winery
REFRESH-INTERVAL;VALUE=DURATION:PT1H
X-Robots-Tag:noindex
X-PUBLISHED-TTL:PT1H
BEGIN:VTIMEZONE
TZID:UTC
BEGIN:STANDARD
TZOFFSETFROM:+0000
TZOFFSETTO:+0000
TZNAME:UTC
DTSTART:20230101T000000
END:STANDARD
END:VTIMEZONE
BEGIN:VEVENT
DTSTART;TZID=UTC:20240721T130000
DTEND;TZID=UTC:20240721T150000
DTSTAMP:20260421T061017
CREATED:20240712T135410Z
LAST-MODIFIED:20240712T135410Z
UID:9727-1721566800-1721574000@killingtreewinery.com
SUMMARY:Flamingo Porch Sign Class
DESCRIPTION:Flamingos everywhere!!! Grab some friends and sign up for this super fun and creative porch sign workshop at Killing Tree Winery! Brittney\, owner of Forever Pallets\, will provide all the crafting supplies and a variety of paint colors to choose from. Killing Tree Winery will also provide a free glass or flight of wine included in the workshop fee of $50. This porch sign will be 5ft tall. Killing Tree Winery has a full menu and encourages you to come grab a bite to eat during your workshop as well.PLEASE NOTE… All workshops are non-refundable.You must register at
URL:https://killingtreewinery.com/event/flamingo-porch-sign-class/
LOCATION:OH
END:VEVENT
END:VCALENDAR