BEGIN:VCALENDAR
VERSION:2.0
PRODID:-//Killing Tree Winery - ECPv6.15.11//NONSGML v1.0//EN
CALSCALE:GREGORIAN
METHOD:PUBLISH
X-ORIGINAL-URL:https://killingtreewinery.com
X-WR-CALDESC:Events for Killing Tree Winery
REFRESH-INTERVAL;VALUE=DURATION:PT1H
X-Robots-Tag:noindex
X-PUBLISHED-TTL:PT1H
BEGIN:VTIMEZONE
TZID:UTC
BEGIN:STANDARD
TZOFFSETFROM:+0000
TZOFFSETTO:+0000
TZNAME:UTC
DTSTART:20240101T000000
END:STANDARD
END:VTIMEZONE
BEGIN:VEVENT
DTSTART;TZID=UTC:20250405T130000
DTEND;TZID=UTC:20250405T150000
DTSTAMP:20260420T142803
CREATED:20250330T182640Z
LAST-MODIFIED:20250330T182640Z
UID:10793-1743858000-1743865200@killingtreewinery.com
SUMMARY:Spring Porch Sitter Painting
DESCRIPTION:Join Niki\, Three Sister’s Studio\, as she guides you through creating a fantastic porch sign.  $45 includes all supplies\, instruction and a drink.  Be sure to grab some delicious food. \n 
URL:https://killingtreewinery.com/event/spring-porch-sitter-painting/
LOCATION:OH
END:VEVENT
BEGIN:VEVENT
DTSTART;TZID=UTC:20250417T180000
DTEND;TZID=UTC:20250417T190000
DTSTAMP:20260420T142803
CREATED:20250330T184158Z
LAST-MODIFIED:20250330T184158Z
UID:10802-1744912800-1744916400@killingtreewinery.com
SUMMARY:Door Mat Craft Class
DESCRIPTION:Join Kristin and Shellie for an evening of crafting.  Choose from a watermelon or baseball design for your welcome mat.  $35 includes all supplies and a Drink.  Make sure that you grab some delicious food! \nText Amy at
URL:https://killingtreewinery.com/event/door-mat-craft-class/
LOCATION:OH
END:VEVENT
BEGIN:VEVENT
DTSTART;TZID=UTC:20250426T130000
DTEND;TZID=UTC:20250426T150000
DTSTAMP:20260420T142803
CREATED:20250330T184633Z
LAST-MODIFIED:20250330T184633Z
UID:10804-1745672400-1745679600@killingtreewinery.com
SUMMARY:Bird House Canvas Painting Class
DESCRIPTION:Join Kelly\, A Girl and A Brush\, for a canvas painting class of an adorable Bird House scene.  $30 for all supplies\, instructions and a drink.  Make sure to grab dinner!  Message Kelly for your seat. \n 
URL:https://killingtreewinery.com/event/bird-house-canvas-painting-class/
LOCATION:OH
END:VEVENT
END:VCALENDAR