BEGIN:VCALENDAR
VERSION:2.0
PRODID:-//Killing Tree Winery - ECPv6.15.11//NONSGML v1.0//EN
CALSCALE:GREGORIAN
METHOD:PUBLISH
X-WR-CALNAME:Killing Tree Winery
X-ORIGINAL-URL:https://killingtreewinery.com
X-WR-CALDESC:Events for Killing Tree Winery
REFRESH-INTERVAL;VALUE=DURATION:PT1H
X-Robots-Tag:noindex
X-PUBLISHED-TTL:PT1H
BEGIN:VTIMEZONE
TZID:UTC
BEGIN:STANDARD
TZOFFSETFROM:+0000
TZOFFSETTO:+0000
TZNAME:UTC
DTSTART:20230101T000000
END:STANDARD
END:VTIMEZONE
BEGIN:VEVENT
DTSTART;TZID=UTC:20241114T173000
DTEND;TZID=UTC:20241114T203000
DTSTAMP:20260420T221127
CREATED:20241101T151403Z
LAST-MODIFIED:20241101T151403Z
UID:10541-1731605400-1731616200@killingtreewinery.com
SUMMARY:Hat Burning Class
DESCRIPTION:Join Brooke from Red Ridge Designs as she guides guests through making their own custom hat.  $60 per person includes all supplies and a wine flight.  Seating is limited.  Register by texting Amy at 740-502-3135
URL:https://killingtreewinery.com/event/hat-burning-class/
LOCATION:OH
END:VEVENT
END:VCALENDAR