BEGIN:VCALENDAR
VERSION:2.0
PRODID:-//Killing Tree Winery - ECPv6.15.11//NONSGML v1.0//EN
CALSCALE:GREGORIAN
METHOD:PUBLISH
X-ORIGINAL-URL:https://killingtreewinery.com
X-WR-CALDESC:Events for Killing Tree Winery
REFRESH-INTERVAL;VALUE=DURATION:PT1H
X-Robots-Tag:noindex
X-PUBLISHED-TTL:PT1H
BEGIN:VTIMEZONE
TZID:UTC
BEGIN:STANDARD
TZOFFSETFROM:+0000
TZOFFSETTO:+0000
TZNAME:UTC
DTSTART:20230101T000000
END:STANDARD
END:VTIMEZONE
BEGIN:VEVENT
DTSTART;TZID=UTC:20241012T130000
DTEND;TZID=UTC:20241012T150000
DTSTAMP:20260420T234426
CREATED:20241003T183032Z
LAST-MODIFIED:20241003T183032Z
UID:9943-1728738000-1728745200@killingtreewinery.com
SUMMARY:Ohio State Sign Class
DESCRIPTION:Join Brittany from Forever Pallets as she assists you in creating a great Ohio State Door Hanger. \n 
URL:https://killingtreewinery.com/event/ohio-state-sign-class/
LOCATION:OH
END:VEVENT
BEGIN:VEVENT
DTSTART;TZID=UTC:20241020T120000
DTEND;TZID=UTC:20241020T150000
DTSTAMP:20260420T234426
CREATED:20241003T184350Z
LAST-MODIFIED:20241003T184350Z
UID:9955-1729425600-1729436400@killingtreewinery.com
SUMMARY:Scarecrow Porch Sign Craft Class
DESCRIPTION:Join Brittany from Forever Pallets as she guides you through painting this fun porch sign class.
URL:https://killingtreewinery.com/event/scarecrow-porch-sign-craft-class/
LOCATION:OH
END:VEVENT
BEGIN:VEVENT
DTSTART;TZID=UTC:20241024T180000
DTEND;TZID=UTC:20241024T190000
DTSTAMP:20260420T234426
CREATED:20241003T184808Z
LAST-MODIFIED:20241003T184808Z
UID:9959-1729792800-1729796400@killingtreewinery.com
SUMMARY:Half Moon Wreath
DESCRIPTION:Join Loving Creations Florals as Amber walks you through making this adorable Halloween Wreath!
URL:https://killingtreewinery.com/event/half-moon-wreath/
LOCATION:OH
END:VEVENT
END:VCALENDAR